BEGIN:VCALENDAR
VERSION:2.0
PRODID:-//Gymnasium Friedrich Ludwig Jahn Kyritz - ECPv6.15.20//NONSGML v1.0//EN
CALSCALE:GREGORIAN
METHOD:PUBLISH
X-ORIGINAL-URL:https://gymnasium-kyritz.de
X-WR-CALDESC:Veranstaltungen für Gymnasium Friedrich Ludwig Jahn Kyritz
REFRESH-INTERVAL;VALUE=DURATION:PT1H
X-Robots-Tag:noindex
X-PUBLISHED-TTL:PT1H
BEGIN:VTIMEZONE
TZID:Europe/Berlin
BEGIN:DAYLIGHT
TZOFFSETFROM:+0100
TZOFFSETTO:+0200
TZNAME:CEST
DTSTART:20230326T010000
END:DAYLIGHT
BEGIN:STANDARD
TZOFFSETFROM:+0200
TZOFFSETTO:+0100
TZNAME:CET
DTSTART:20231029T010000
END:STANDARD
BEGIN:DAYLIGHT
TZOFFSETFROM:+0100
TZOFFSETTO:+0200
TZNAME:CEST
DTSTART:20240331T010000
END:DAYLIGHT
BEGIN:STANDARD
TZOFFSETFROM:+0200
TZOFFSETTO:+0100
TZNAME:CET
DTSTART:20241027T010000
END:STANDARD
BEGIN:DAYLIGHT
TZOFFSETFROM:+0100
TZOFFSETTO:+0200
TZNAME:CEST
DTSTART:20250330T010000
END:DAYLIGHT
BEGIN:STANDARD
TZOFFSETFROM:+0200
TZOFFSETTO:+0100
TZNAME:CET
DTSTART:20251026T010000
END:STANDARD
END:VTIMEZONE
BEGIN:VEVENT
DTSTART;VALUE=DATE:20240418
DTEND;VALUE=DATE:20240419
DTSTAMP:20260422T073858
CREATED:20230918T144621Z
LAST-MODIFIED:20241014T080658Z
UID:18784-1713398400-1713484799@gymnasium-kyritz.de
SUMMARY:Känguru der Mathematik 2024
DESCRIPTION:Am 18. April 2024 geht das Känguru der Mathematik wieder an den Start – zum 30. Mal in Deutschland.\nKänguru der Mathematik\, der Multiple-Choice-Wettbewerb für die Klassenstufen 3 bis 13\, bei dem es nur Gewinner gibt. Jeder Teilnehmer erhält eine Urkunde. So macht Mathe richtig Spaß! \nMehr Infos bei euren Mathelehrern und auf www.mathe-kaenguru.de: \n\nein mathematischer Multiple-Choice-Wettbewerb für über 6 Millionen Teilnehmer in mehr als 80 Ländern weltweit\nein Wettbewerb\, der einmal jährlich am 3. Donnerstag im März in allen Teilnehmerländern gleichzeitig stattfindet und als freiwilliger Klausurwettbewerb an den Schulen unter Aufsicht geschrieben wird\neine Veranstaltung\, die die mathematische Bildung in den Schulen unterstützen\, die Freude an der Beschäftigung mit Mathematik wecken und festigen und durch das Angebot an interessanten Aufgaben die selbstständige Arbeit und die Arbeit im Unterricht fördern soll\nein Einzelwettbewerb\, bei dem in 75 Minuten je 24 Aufgaben in den Klassenstufen 3/4 und 5/6 bzw. je 30 Aufgaben in den Klassenstufen 7/8\, 9/10 und 11–13 zu lösen sind\nein Wettbewerb mit großen Teilnehmerzahlen: in Deutschland sind sie von 184 im Jahr 1995 auf etwa 968.000 im Jahr 2019 gestiegen
URL:https://gymnasium-kyritz.de/event/kaenguru-mathematik/
LOCATION:Brandenburg
CATEGORIES:Schulveranstaltungen
ATTACH;FMTTYPE=image/jpeg:https://gymnasium-kyritz.de/wp-content/uploads/2023/09/Mathematik_Kaenguru_2024.jpg
END:VEVENT
END:VCALENDAR